BEGIN:VCALENDAR
VERSION:2.0
PRODID:-//PureNatural EU - ECPv6.15.20//NONSGML v1.0//EN
CALSCALE:GREGORIAN
METHOD:PUBLISH
X-WR-CALNAME:PureNatural EU
X-ORIGINAL-URL:https://purenatural.eu
X-WR-CALDESC:Events for PureNatural EU
REFRESH-INTERVAL;VALUE=DURATION:PT1H
X-Robots-Tag:noindex
X-PUBLISHED-TTL:PT1H
BEGIN:VTIMEZONE
TZID:Europe/Amsterdam
BEGIN:DAYLIGHT
TZOFFSETFROM:+0100
TZOFFSETTO:+0200
TZNAME:CEST
DTSTART:20250330T010000
END:DAYLIGHT
BEGIN:STANDARD
TZOFFSETFROM:+0200
TZOFFSETTO:+0100
TZNAME:CET
DTSTART:20251026T010000
END:STANDARD
BEGIN:DAYLIGHT
TZOFFSETFROM:+0100
TZOFFSETTO:+0200
TZNAME:CEST
DTSTART:20260329T010000
END:DAYLIGHT
BEGIN:STANDARD
TZOFFSETFROM:+0200
TZOFFSETTO:+0100
TZNAME:CET
DTSTART:20261025T010000
END:STANDARD
BEGIN:DAYLIGHT
TZOFFSETFROM:+0100
TZOFFSETTO:+0200
TZNAME:CEST
DTSTART:20270328T010000
END:DAYLIGHT
BEGIN:STANDARD
TZOFFSETFROM:+0200
TZOFFSETTO:+0100
TZNAME:CET
DTSTART:20271031T010000
END:STANDARD
END:VTIMEZONE
BEGIN:VEVENT
DTSTART;TZID=Europe/Amsterdam:20260608T010000
DTEND;TZID=Europe/Amsterdam:20260608T033000
DTSTAMP:20260421T101129
CREATED:20251230T122911Z
LAST-MODIFIED:20251230T201225Z
UID:23645-1780880400-1780889400@purenatural.eu
SUMMARY:Ayurvedic Yoga & Massage for Summer
DESCRIPTION:Summer is dominated by heat\, intensity\, and transformation (Pitta). While this season brings vitality and drive\, excess heat can lead to tension\, irritability\, and burnout. \nThe yoga practice for summer emphasizes cooling\, calming\, and softening—creating space in the body while maintaining steadiness and ease. The Ayurvedic massage uses soothing techniques and cooling oils to calm the nervous system\, release excess heat\, and restore balance. \nThis session invites you to stay cool and balanced while fully enjoying the brightness of summer. \n 
URL:https://purenatural.eu/event/ayurvedic-yoga-massage-for-summer/
LOCATION:Inner Embassy Yoga Studio\, Scheveningseweg 14\, The Hague\, 2517 KT\, Netherlands
CATEGORIES:Seasonal Ayurvedic Yoga & Massage Workshop
ATTACH;FMTTYPE=image/png:https://purenatural.eu/wp-content/uploads/2025/12/Summer-1.png
ORGANIZER;CN="PureNatural.EU":MAILTO:info@purenatural.eu
END:VEVENT
BEGIN:VEVENT
DTSTART;TZID=Europe/Amsterdam:20261004T130000
DTEND;TZID=Europe/Amsterdam:20261004T153000
DTSTAMP:20260421T101129
CREATED:20251230T134218Z
LAST-MODIFIED:20251230T201131Z
UID:23765-1791118800-1791127800@purenatural.eu
SUMMARY:Ayurvedic Yoga & Massage for Autumn
DESCRIPTION:Autumn is characterized by movement\, dryness and change (Vata). As the days become cooler and more irregular\, grounding and stability become essential. \nThe yoga practice focuses on slow\, grounding mindful movements\, longer holds\, and breath awareness to cultivate a sense of calm and presence. The nourishing Ayurvedic massage supports grounding\, hydration and nervous system regulation\, helping to counterbalance restlessness and fatigue. \nThis workshop is designed to help you transition into the colder months feeling rooted\, steady and deeply supported.
URL:https://purenatural.eu/event/ayurvedic-yoga-massage-for-autumn/
LOCATION:Inner Embassy Yoga Studio\, Scheveningseweg 14\, The Hague\, 2517 KT\, Netherlands
CATEGORIES:Seasonal Ayurvedic Yoga & Massage Workshop
ATTACH;FMTTYPE=image/png:https://purenatural.eu/wp-content/uploads/2025/12/Autumn-Workshop-1.png
ORGANIZER;CN="PureNatural.EU":MAILTO:info@purenatural.eu
END:VEVENT
END:VCALENDAR